BEGIN:VCALENDAR
VERSION:2.0
PRODID:-//Maryland Economic Development Association (MEDA) - ECPv6.15.17.1//NONSGML v1.0//EN
CALSCALE:GREGORIAN
METHOD:PUBLISH
X-ORIGINAL-URL:https://www.medamd.com
X-WR-CALDESC:Events for Maryland Economic Development Association (MEDA)
REFRESH-INTERVAL;VALUE=DURATION:PT1H
X-Robots-Tag:noindex
X-PUBLISHED-TTL:PT1H
BEGIN:VTIMEZONE
TZID:America/New_York
BEGIN:DAYLIGHT
TZOFFSETFROM:-0500
TZOFFSETTO:-0400
TZNAME:EDT
DTSTART:20200308T070000
END:DAYLIGHT
BEGIN:STANDARD
TZOFFSETFROM:-0400
TZOFFSETTO:-0500
TZNAME:EST
DTSTART:20201101T060000
END:STANDARD
BEGIN:DAYLIGHT
TZOFFSETFROM:-0500
TZOFFSETTO:-0400
TZNAME:EDT
DTSTART:20210314T070000
END:DAYLIGHT
BEGIN:STANDARD
TZOFFSETFROM:-0400
TZOFFSETTO:-0500
TZNAME:EST
DTSTART:20211107T060000
END:STANDARD
BEGIN:DAYLIGHT
TZOFFSETFROM:-0500
TZOFFSETTO:-0400
TZNAME:EDT
DTSTART:20220313T070000
END:DAYLIGHT
BEGIN:STANDARD
TZOFFSETFROM:-0400
TZOFFSETTO:-0500
TZNAME:EST
DTSTART:20221106T060000
END:STANDARD
END:VTIMEZONE
BEGIN:VEVENT
DTSTART;TZID=America/New_York:20210107T120000
DTEND;TZID=America/New_York:20210107T133000
DTSTAMP:20260424T101703
CREATED:20210106T164118Z
LAST-MODIFIED:20210106T164118Z
UID:34302-1610020800-1610026200@www.medamd.com
SUMMARY:MBIA 2021 KICK OFF Meeting
DESCRIPTION:REGISTER NOW \nOn January 7th  from Noon to 1:30 \nHear about the Great Things to Come in 2021! \n MBIA 2021 KICK OFF Meeting\nVirtual Zoom Event \nJoin MBIA and get to know TEDCO\, CEO  Troy LeMaile-Stovall.   Learn more about Troy’s  vision of re-imagining Maryland’s Innovation Ecosystem and TEDCO’s role in building a more dynamic\, collaborative\, supportive and inclusive community.   Q & A will round out that session. \nAdditionally\, you will get updates on the Maryland Business Innovation Challenge\, Founder City & EcoMap.  Learn how you\, your colleagues\, companies\, communities\, innovation centers and corporations can participate!   Join the Challenge! Get Involved! Stay Informed! \nZOOM LINK:     https://us02web.zoom.us/j/88238477257           \nOr iPhone one-tap:        US: +1 301 715 8592
URL:https://www.medamd.com/event/mbia-2021-kick-off-meeting/
CATEGORIES:Networking
END:VEVENT
BEGIN:VEVENT
DTSTART;TZID=America/New_York:20210107T170000
DTEND;TZID=America/New_York:20210107T180000
DTSTAMP:20260424T101703
CREATED:20210107T142452Z
LAST-MODIFIED:20210107T142452Z
UID:34350-1610038800-1610042400@www.medamd.com
SUMMARY:Goal Setting: Re-Monetizing Your Business Goals for the Post Disaster Era
DESCRIPTION:The 2020 Pandemic has altered the way we must look at our Business Goals. From personal and business outcomes that naturally impact our daily lives\, re-setting goals is something we certainly need to address in a much more thoughtful and strategic manner. We will discuss the process of re-setting our goals premised upon our actual experiences and converting those into our business.
URL:https://www.medamd.com/event/goal-setting-re-monetizing-your-business-goals-for-the-post-disaster-era/
CATEGORIES:Networking
END:VEVENT
BEGIN:VEVENT
DTSTART;TZID=America/New_York:20210129T110000
DTEND;TZID=America/New_York:20210129T120000
DTSTAMP:20260424T101703
CREATED:20210128T135052Z
LAST-MODIFIED:20210128T135052Z
UID:34908-1611918000-1611921600@www.medamd.com
SUMMARY:County Executive Steuart Pittman to Join AAEDC CEO Ben Birge in Announcing New Minority Business Program in Anne Arundel County
DESCRIPTION:Annapolis\, Maryland (January 27\, 2021) – Anne Arundel County Executive Steuart Pittman will join AAEDC CEO Ben Birge to unveil a new initiative aimed at retaining and expanding small\, minority\, women and veteran owned businesses in Anne Arundel County.  \nWHO:            Steuart Pittman\, Anne Arundel County Executive \nBen Birge\, Anne Arundel Economic Development Corporation \nKeasha Haythe\, Anne Arundel Economic Development Corporation \nWill Holmes\, Will Holmes Consulting (WHC) \nJohnetta Thurston\, JDA Management Consulting \nCarlos “CJ” Santos\, Nemphos Braue LLC \nLaKia Bourne\, Synergy Accounting Services \nWHEN:           Friday\, January 29\, 2021 at 11:00 a.m. \nWHERE:         This will be a Zoom event livestreamed on Anne Arundel Economic Development Corporation’s Facebook page.  Members of the media should RSVP to Allison Akers at aakers@aaedc.org to receive the Zoom login information. \n### \nABOUT THE ANNE ARUNDEL ECONOMIC DEVELOPMENT CORPORATION \nThe mission of the AAEDC is to serve as a catalyst for business growth in Anne Arundel County thereby increasing job opportunities\, expanding the tax base and improving quality of life.  By providing investment and technical assistance and fostering community revitalization initiatives\, the AAEDC plays a vital role in enhancing commercial districts\, improving county infrastructure\, increasing agriculture-based business and promoting high-value business sectors such as technology and national defense. News and updates are available on the corporation’s website www.ArundelBiz.org.
URL:https://www.medamd.com/event/county-executive-steuart-pittman-to-join-aaedc-ceo-ben-birge-in-announcing-new-minority-business-program-in-anne-arundel-county/
CATEGORIES:Networking
END:VEVENT
END:VCALENDAR